BEGIN:VCALENDAR
VERSION:2.0
PRODID:-//Town of Frankfort, Maine: Official Town Website - ECPv4.9.1.1//NONSGML v1.0//EN
CALSCALE:GREGORIAN
METHOD:PUBLISH
X-WR-CALNAME:Town of Frankfort, Maine: Official Town Website
X-ORIGINAL-URL:https://www.frankfortme.com
X-WR-CALDESC:Events for Town of Frankfort, Maine: Official Town Website
BEGIN:VEVENT
DTSTART;TZID=UTC+0:20190527T080000
DTEND;TZID=UTC+0:20190527T090000
DTSTAMP:20260423T102905
CREATED:20190522T133419Z
LAST-MODIFIED:20190522T133419Z
UID:6890-1558944000-1558947600@www.frankfortme.com
SUMMARY:Memorial Day Service
DESCRIPTION:Memorial Day Service at the Memorial Park \n
URL:https://www.frankfortme.com/calendar-event/memorial-day-service/
CATEGORIES:Services/Parades
END:VEVENT
END:VCALENDAR