BEGIN:VCALENDAR
VERSION:2.0
PRODID:-//Town of Frankfort, Maine: Official Town Website - ECPv4.9.1.1//NONSGML v1.0//EN
CALSCALE:GREGORIAN
METHOD:PUBLISH
X-WR-CALNAME:Town of Frankfort, Maine: Official Town Website
X-ORIGINAL-URL:https://www.frankfortme.com
X-WR-CALDESC:Events for Town of Frankfort, Maine: Official Town Website
BEGIN:VEVENT
DTSTART;TZID=UTC+0:20190603T190000
DTEND;TZID=UTC+0:20190603T200000
DTSTAMP:20260423T114302
CREATED:20190522T133658Z
LAST-MODIFIED:20190522T133658Z
UID:6893-1559588400-1559592000@www.frankfortme.com
SUMMARY:Public Hearing
DESCRIPTION:They will be a public hearing at Frankfort Church Vestry to discuss the eliminating of the town’s highway department. \n
URL:https://www.frankfortme.com/calendar-event/public-hearing/
CATEGORIES:Public Hearing
END:VEVENT
END:VCALENDAR