BEGIN:VCALENDAR
VERSION:2.0
PRODID:-//Town of Frankfort, Maine: Official Town Website - ECPv4.9.1.1//NONSGML v1.0//EN
CALSCALE:GREGORIAN
METHOD:PUBLISH
X-WR-CALNAME:Town of Frankfort, Maine: Official Town Website
X-ORIGINAL-URL:https://www.frankfortme.com
X-WR-CALDESC:Events for Town of Frankfort, Maine: Official Town Website
BEGIN:VEVENT
DTSTART;TZID=UTC+0:20190610T180000
DTEND;TZID=UTC+0:20190610T210000
DTSTAMP:20260423T145823
CREATED:20190326T152500Z
LAST-MODIFIED:20190326T152500Z
UID:6569-1560189600-1560200400@www.frankfortme.com
SUMMARY:Selectmen Meeting
DESCRIPTION:
URL:https://www.frankfortme.com/calendar-event/selectmen-meeting-11/
CATEGORIES:Selectmen Meeting
END:VEVENT
END:VCALENDAR