BEGIN:VCALENDAR
VERSION:2.0
PRODID:-//Town of Frankfort, Maine: Official Town Website - ECPv4.9.1.1//NONSGML v1.0//EN
CALSCALE:GREGORIAN
METHOD:PUBLISH
X-WR-CALNAME:Town of Frankfort, Maine: Official Town Website
X-ORIGINAL-URL:https://www.frankfortme.com
X-WR-CALDESC:Events for Town of Frankfort, Maine: Official Town Website
BEGIN:VEVENT
DTSTART;VALUE=DATE:20190527
DTEND;VALUE=DATE:20190528
DTSTAMP:20260421T103236
CREATED:20190522T133052Z
LAST-MODIFIED:20190522T133052Z
UID:6886-1558915200-1559001599@www.frankfortme.com
SUMMARY:Town office closed
DESCRIPTION:
URL:https://www.frankfortme.com/calendar-event/town-office-closed/
CATEGORIES:Town Office closed
END:VEVENT
END:VCALENDAR