BEGIN:VCALENDAR
VERSION:2.0
PRODID:-//Town of Frankfort, Maine: Official Town Website - ECPv4.9.1.1//NONSGML v1.0//EN
CALSCALE:GREGORIAN
METHOD:PUBLISH
X-WR-CALNAME:Town of Frankfort, Maine: Official Town Website
X-ORIGINAL-URL:https://www.frankfortme.com
X-WR-CALDESC:Events for Town of Frankfort, Maine: Official Town Website
BEGIN:VEVENT
DTSTART;TZID=UTC+0:20190917T190000
DTEND;TZID=UTC+0:20190917T190000
DTSTAMP:20260424T141707
CREATED:20190326T155636Z
LAST-MODIFIED:20190326T155636Z
UID:6615-1568746800-1568746800@www.frankfortme.com
SUMMARY:Internet Committee
DESCRIPTION:
URL:https://www.frankfortme.com/calendar-event/internet-committee-6/
CATEGORIES:Internet Committee
END:VEVENT
END:VCALENDAR