BEGIN:VCALENDAR
VERSION:2.0
PRODID:-//Town of Frankfort, Maine: Official Town Website - ECPv4.9.1.1//NONSGML v1.0//EN
CALSCALE:GREGORIAN
METHOD:PUBLISH
X-WR-CALNAME:Town of Frankfort, Maine: Official Town Website
X-ORIGINAL-URL:https://www.frankfortme.com
X-WR-CALDESC:Events for Town of Frankfort, Maine: Official Town Website
BEGIN:VEVENT
DTSTART;TZID=UTC+0:20191119T190000
DTEND;TZID=UTC+0:20191119T190000
DTSTAMP:20260424T112253
CREATED:20190326T181320Z
LAST-MODIFIED:20190326T181320Z
UID:6651-1574190000-1574190000@www.frankfortme.com
SUMMARY:Internet Committee
DESCRIPTION:
URL:https://www.frankfortme.com/calendar-event/internet-committee-8/
CATEGORIES:Internet Committee
END:VEVENT
END:VCALENDAR